BEGIN:VCALENDAR
VERSION:2.0
PRODID:icalendar-ruby
CALSCALE:GREGORIAN
METHOD:PUBLISH
BEGIN:VEVENT
DTSTAMP:20260422T132051Z
UID:107-74434@greenwayparkbc.org
DTSTART:20260503T130000Z
DTEND:20260531T140000Z
CLASS:PUBLIC
CREATED:20260421T090928
DESCRIPTION:The kids will be collecting change during the Sunday Morning se
 rvice for Alamance Pregnancy Service. 
LAST-MODIFIED:20260421T090928
LOCATION:1031 Townbranch Rd. 27253
SUMMARY:Baby Bottle Boomerang
URL;VALUE=URI:https://www.greenwayparkbc.org/events/baby-bottle-boomerang/2
 026-05-03
ATTACH;FILENAME=Baby-Bottle.png;FMTTYPE=image/png:https://dq5pwpg1q8ru0.clo
 udfront.net/2026/04/21/13/09/27/a1b5225a-134f-4f14-bb55-a6464101a047/Baby-
 Bottle.png
END:VEVENT
END:VCALENDAR
