BEGIN:VCALENDAR
VERSION:2.0
PRODID:icalendar-ruby
CALSCALE:GREGORIAN
METHOD:PUBLISH
BEGIN:VEVENT
DTSTAMP:20260422T145355Z
UID:108-74437@greenwayparkbc.org
DTSTART:20260531T130000Z
DTEND:20260531T140000Z
CLASS:PUBLIC
CREATED:20260421T091130
DESCRIPTION:We're Back! Join us for breakfast\, fellowship\, and prayer.
LAST-MODIFIED:20260421T091130
LOCATION:1031 Townbranch Rd. 27253
SUMMARY:Men's Prayer Breakfast
URL;VALUE=URI:https://www.greenwayparkbc.org/events/mens-prayer-breakfast--
 108/2026-05-31
ATTACH;FILENAME=mens-breakfast.jpeg;FMTTYPE=image/jpeg:https://dq5pwpg1q8ru
 0.cloudfront.net/2026/04/21/13/11/30/c1b9b889-2301-4089-a2b7-7452daf780e6/
 mens-breakfast.jpeg
END:VEVENT
END:VCALENDAR
